BEGIN:VCALENDAR
VERSION:2.0
PRODID:-//Indian Gaming - ECPv6.7.0//NONSGML v1.0//EN
CALSCALE:GREGORIAN
METHOD:PUBLISH
X-WR-CALNAME:Indian Gaming
X-ORIGINAL-URL:https://www.indiangaming.com
X-WR-CALDESC:Events for Indian Gaming
REFRESH-INTERVAL;VALUE=DURATION:PT1H
X-Robots-Tag:noindex
X-PUBLISHED-TTL:PT1H
BEGIN:VTIMEZONE
TZID:America/Los_Angeles
BEGIN:DAYLIGHT
TZOFFSETFROM:-0800
TZOFFSETTO:-0700
TZNAME:PDT
DTSTART:20260308T100000
END:DAYLIGHT
BEGIN:STANDARD
TZOFFSETFROM:-0700
TZOFFSETTO:-0800
TZNAME:PST
DTSTART:20261101T090000
END:STANDARD
END:VTIMEZONE
BEGIN:VEVENT
DTSTART;VALUE=DATE:20260601
DTEND;VALUE=DATE:20260604
DTSTAMP:20260423T161009
CREATED:20231114T215230Z
LAST-MODIFIED:20251104T183505Z
UID:30310-1780272000-1780531199@www.indiangaming.com
SUMMARY:Class 2 Gathering (C2G) 2026
DESCRIPTION:Class 2 Gathering (C2G) will bring together casino and gaming professionals\, vendors\, and experts in the field of Class II casino gaming from the traditional bingo hall experience to the slot floor. The conference will combine education paths\, showcase current applicable innovations\, plus engaging events for participants.
URL:https://www.indiangaming.com/event/class-2-gathering-c2g-2026/
LOCATION:Prairie Band Casino & Resort\, 12305 150th Rd.\, Mayetta KS\, 66509
ATTACH;FMTTYPE=image/jpeg:https://www.indiangaming.com/wp-content/uploads/2023/11/C2G-Logo.jpg
ORGANIZER;CN="Prairie Band Potawatomi Nation":MAILTO:inquiry@class2gathering.com
END:VEVENT
END:VCALENDAR