BEGIN:VCALENDAR
VERSION:2.0
PRODID:-//Indian Gaming - ECPv6.7.0//NONSGML v1.0//EN
CALSCALE:GREGORIAN
METHOD:PUBLISH
X-WR-CALNAME:Indian Gaming
X-ORIGINAL-URL:https://www.indiangaming.com
X-WR-CALDESC:Events for Indian Gaming
REFRESH-INTERVAL;VALUE=DURATION:PT1H
X-Robots-Tag:noindex
X-PUBLISHED-TTL:PT1H
BEGIN:VTIMEZONE
TZID:America/Los_Angeles
BEGIN:DAYLIGHT
TZOFFSETFROM:-0800
TZOFFSETTO:-0700
TZNAME:PDT
DTSTART:20260308T100000
END:DAYLIGHT
BEGIN:STANDARD
TZOFFSETFROM:-0700
TZOFFSETTO:-0800
TZNAME:PST
DTSTART:20261101T090000
END:STANDARD
END:VTIMEZONE
BEGIN:VEVENT
DTSTART;VALUE=DATE:20260427
DTEND;VALUE=DATE:20260430
DTSTAMP:20260423T131719
CREATED:20231113T121131Z
LAST-MODIFIED:20260119T235156Z
UID:30245-1777248000-1777507199@www.indiangaming.com
SUMMARY:NAFOA 44th Annual Conference
DESCRIPTION:NAFOA was founded as the Native American Finance Officers Association to highlight the role of tribal finance in fostering economic opportunities. Since that time\, NAFOA has grown along with tribal economies. NAFOA is committed to supporting tribal economies through sound economic and fiscal policy\, innovative learning opportunities\, convening thought leadership\, and developing resources for tribes that strengthen governance and exercise sovereignty.
URL:https://www.indiangaming.com/event/nafoa-2026-44th-annual-conference/
LOCATION:Grand Sierra Resort & Casino\, 2500 E 2nd St.\, Reno NV\, 89595
ATTACH;FMTTYPE=image/jpeg:https://www.indiangaming.com/wp-content/uploads/2023/11/NAFOA-Logo.jpg
ORGANIZER;CN="NAFOA":MAILTO:info@nafoa.org
END:VEVENT
END:VCALENDAR