BEGIN:VCALENDAR
VERSION:2.0
PRODID:-//Indian Gaming - ECPv6.7.0//NONSGML v1.0//EN
CALSCALE:GREGORIAN
METHOD:PUBLISH
X-ORIGINAL-URL:https://www.indiangaming.com
X-WR-CALDESC:Events for Indian Gaming
REFRESH-INTERVAL;VALUE=DURATION:PT1H
X-Robots-Tag:noindex
X-PUBLISHED-TTL:PT1H
BEGIN:VTIMEZONE
TZID:America/Los_Angeles
BEGIN:DAYLIGHT
TZOFFSETFROM:-0800
TZOFFSETTO:-0700
TZNAME:PDT
DTSTART:20260308T100000
END:DAYLIGHT
BEGIN:STANDARD
TZOFFSETFROM:-0700
TZOFFSETTO:-0800
TZNAME:PST
DTSTART:20261101T090000
END:STANDARD
END:VTIMEZONE
BEGIN:VEVENT
DTSTART;VALUE=DATE:20260223
DTEND;VALUE=DATE:20260227
DTSTAMP:20260423T144421
CREATED:20241216T033106Z
LAST-MODIFIED:20251219T223946Z
UID:30238-1771804800-1772150399@www.indiangaming.com
SUMMARY:29th Annual Western Indian Gaming Conference & Tradeshow
DESCRIPTION:The Western Indian Gaming Conference & Tradeshow has proven to be one of the most informative conferences in Indian Country. Join tribal leaders\, casino operations managers\, regulators\, policy makers and industry professionals from throughout the country to discuss issues facing the tribal government gaming industry. From Internet gaming\, to state and federal regulatory issues\, this conference and trade show is a don’t miss!
URL:https://www.indiangaming.com/event/29th-annual-western-indian-gaming-conference-tradeshow/
LOCATION:Pechanga Resort Casino\, 45000 Pechange Pkwy\, Temecula CA\, 92592
ATTACH;FMTTYPE=image/png:https://www.indiangaming.com/wp-content/uploads/2021/04/CNIGA_Associations.png
ORGANIZER;CN="California Nations Indian Gaming Association (CNIGA)":MAILTO:ambar@cniga.com
END:VEVENT
END:VCALENDAR