BEGIN:VCALENDAR
VERSION:2.0
PRODID:-//Indian Gaming - ECPv6.7.0//NONSGML v1.0//EN
CALSCALE:GREGORIAN
METHOD:PUBLISH
X-ORIGINAL-URL:https://www.indiangaming.com
X-WR-CALDESC:Events for Indian Gaming
REFRESH-INTERVAL;VALUE=DURATION:PT1H
X-Robots-Tag:noindex
X-PUBLISHED-TTL:PT1H
BEGIN:VTIMEZONE
TZID:America/Los_Angeles
BEGIN:DAYLIGHT
TZOFFSETFROM:-0800
TZOFFSETTO:-0700
TZNAME:PDT
DTSTART:20260308T100000
END:DAYLIGHT
BEGIN:STANDARD
TZOFFSETFROM:-0700
TZOFFSETTO:-0800
TZNAME:PST
DTSTART:20261101T090000
END:STANDARD
END:VTIMEZONE
BEGIN:VEVENT
DTSTART;VALUE=DATE:20260217
DTEND;VALUE=DATE:20260221
DTSTAMP:20260423T161146
CREATED:20221124T103310Z
LAST-MODIFIED:20251219T220816Z
UID:20592-1771286400-1771631999@www.indiangaming.com
SUMMARY:6th Annual TribalHub Cybersecurity Summit
DESCRIPTION:The 6th Annual TribalHub Cybersecurity Summit has expanded to include a non-technical Executive Responsibility track\, designed for leaders across tribal governments\, health\, gaming\, and other tribal enterprises. This track provides concise guidance on what every executive needs to know to effectively support cybersecurity initiatives\, protect data\, employees\, and customers\, and foster a culture of cyber awareness throughout the organization. \nHeld from February 17- 20\, 2026\, at the Hyatt Regency Riverfront in Jacksonville\, Florida\, the TribalHub Cybersecurity Summit will feature three days of expert-led sessions\, hands-on training\, and networking opportunities dedicated to strengthening cyber defenses for tribes and tribal enterprises. Each year\, the Cybersecurity Summit grows stronger.  The Summit is designed by and for professionals across all departments at tribes and tribal enterprises—not just IT or cybersecurity teams. Cyberattacks create ripple effects that extend far beyond technology\, impacting operations\, finances\, customers\, employees\, and community trust. \nWhether you’re an IT professional\, non-technical executive\, or decision-maker\, cybersecurity is everyone’s responsibility—which is why this year’s Summit features three tracks curated for every type of leader. This year’s tracks are: \n\nExecutive Responsibility Track – for non-IT executives shaping overall policy and governance\nStrategic Cybersecurity Track – for all decision-makers and security leaders\nCybersecurity in Practice – for technical professionals in the trenches and hands-on\n\nIncluding keynote speakers\, a charity golf event\, hands-on technical threat hunting workshops\, a cyber vendor expo\, Tribal-ISAC working groups\, and beneficial networking events\, this Cybersecurity Summit has something designed for everyone working within tribal governments and enterprises.
URL:https://www.indiangaming.com/event/6th-annual-tribalhub-cybersecurity-summit/
LOCATION:Hyatt Regency Jacksonville Riverfront\, 225 East Coastline Dr.\, Jacksonville FL\, 32202
ATTACH;FMTTYPE=image/jpeg:https://www.indiangaming.com/wp-content/uploads/2022/11/TribalHub-Cybersecurity-Summit.jpg
ORGANIZER;CN="TribalHub":MAILTO:contactus@tribalhub.com
END:VEVENT
END:VCALENDAR