BEGIN:VCALENDAR
VERSION:2.0
PRODID:-//Indian Gaming - ECPv6.7.0//NONSGML v1.0//EN
CALSCALE:GREGORIAN
METHOD:PUBLISH
X-ORIGINAL-URL:https://www.indiangaming.com
X-WR-CALDESC:Events for Indian Gaming
REFRESH-INTERVAL;VALUE=DURATION:PT1H
X-Robots-Tag:noindex
X-PUBLISHED-TTL:PT1H
BEGIN:VTIMEZONE
TZID:America/Los_Angeles
BEGIN:DAYLIGHT
TZOFFSETFROM:-0800
TZOFFSETTO:-0700
TZNAME:PDT
DTSTART:20260308T100000
END:DAYLIGHT
BEGIN:STANDARD
TZOFFSETFROM:-0700
TZOFFSETTO:-0800
TZNAME:PST
DTSTART:20261101T090000
END:STANDARD
END:VTIMEZONE
BEGIN:VEVENT
DTSTART;VALUE=DATE:20260127
DTEND;VALUE=DATE:20260130
DTSTAMP:20260423T161137
CREATED:20250919T045249Z
LAST-MODIFIED:20251106T192018Z
UID:45437-1769472000-1769731199@www.indiangaming.com
SUMMARY:Native Finance Summit 2026
DESCRIPTION:The Native Finance Summit 2026 is the only national gathering where financial technology meets Tribal sovereignty—advancing sovereign digital finance\, emerging financial technology\, and innovative lending strategies for Tribal nations and Indigenous economic development. \nThis three-day summit will bring together Tribal leaders\, Native-owned financial enterprises\, policymakers\, regulators\, and industry innovators for an immersive agenda of keynote presentations\, powerful content sessions\, and high-impact networking.
URL:https://www.indiangaming.com/event/native-finance-summit-2026/
LOCATION:Hard Rock Hotel & Casino Tulsa\, 777 W. Cherokee St.\, Catoosa OK\, 74015
ATTACH;FMTTYPE=image/jpeg:https://www.indiangaming.com/wp-content/uploads/2025/09/Native-Finance-Summit-Logo-1.jpg
END:VEVENT
END:VCALENDAR